BEGIN:VCALENDAR
VERSION:2.0
PRODID:-//wp-events-plugin.com//7.2.3.1//EN
TZID:America/New_York
X-WR-TIMEZONE:America/New_York
BEGIN:VEVENT
UID:2079@floridasportscards.com
DTSTART;TZID=America/New_York:20260509T100000
DTEND;TZID=America/New_York:20260509T150000
DTSTAMP:20260422T231020Z
URL:https://floridasportscards.com/events/365-collectibles-card-show-miami
 /
SUMMARY:365 Collectibles Card Show - Miami
DESCRIPTION:
ATTACH;FMTTYPE=image/jpeg:https://floridasportscards.com/wp-content/upload
 s/2026/04/0509-Miami.webp
CATEGORIES:Card Shows
LOCATION:Zoo Miami\, 12400 SW 152nd St\, Miami\, FL\, 33177\, United States
X-APPLE-STRUCTURED-LOCATION;VALUE=URI;X-ADDRESS=12400 SW 152nd St\, Miami\,
  FL\, 33177\, United States;X-APPLE-RADIUS=100;X-TITLE=Zoo Miami:geo:0,0
END:VEVENT
BEGIN:VTIMEZONE
TZID:America/New_York
X-LIC-LOCATION:America/New_York
BEGIN:DAYLIGHT
DTSTART:20260308T030000
TZOFFSETFROM:-0500
TZOFFSETTO:-0400
TZNAME:EDT
END:DAYLIGHT
END:VTIMEZONE
END:VCALENDAR