BEGIN:VCALENDAR
VERSION:2.0
PRODID:-//wp-events-plugin.com//7.2.3.1//EN
TZID:America/New_York
X-WR-TIMEZONE:America/New_York
BEGIN:VEVENT
UID:1630@floridasportscards.com
DTSTART;TZID=America/New_York:20260221T090000
DTEND;TZID=America/New_York:20260221T170000
DTSTAMP:20260107T051125Z
URL:https://floridasportscards.com/events/4th-annual-venice-spring-spectac
 ular-card-show-venice/
SUMMARY:4th Annual Venice "Spring Spectacular" Card Show - Venice
DESCRIPTION:
CATEGORIES:Card Shows
LOCATION:Hotel Venezia Banquet Center\, 425 US Hwy 41 Bypass N\, Venice\, F
 L\, United States
X-APPLE-STRUCTURED-LOCATION;VALUE=URI;X-ADDRESS=425 US Hwy 41 Bypass N\, Ve
 nice\, FL\, United States;X-APPLE-RADIUS=100;X-TITLE=Hotel Venezia Banquet
  Center:geo:0,0
END:VEVENT
BEGIN:VTIMEZONE
TZID:America/New_York
X-LIC-LOCATION:America/New_York
BEGIN:STANDARD
DTSTART:20251102T010000
TZOFFSETFROM:-0400
TZOFFSETTO:-0500
TZNAME:EST
END:STANDARD
END:VTIMEZONE
END:VCALENDAR