BEGIN:VCALENDAR
VERSION:2.0
PRODID:-//wp-events-plugin.com//7.2.3.1//EN
TZID:America/New_York
X-WR-TIMEZONE:America/New_York
BEGIN:VEVENT
UID:1591@floridasportscards.com
DTSTART;TZID=America/New_York:20260131T090000
DTEND;TZID=America/New_York:20260131T150000
DTSTAMP:20260105T002815Z
URL:https://floridasportscards.com/events/5th-saturday-sports-card-collect
 ibles-show-st-augustine/
SUMMARY:5th Saturday Sports Card & Collectibles Show - St. Augustine
DESCRIPTION:
ATTACH;FMTTYPE=image/jpeg:https://floridasportscards.com/wp-content/upload
 s/2026/01/0131-St.-augustine.webp
CATEGORIES:Card Shows
LOCATION:WGV Renaissance Hotel\, 500 S Legacy Trail\, St. Augustine\, FL\, 
 32092\, United States
X-APPLE-STRUCTURED-LOCATION;VALUE=URI;X-ADDRESS=500 S Legacy Trail\, St. Au
 gustine\, FL\, 32092\, United States;X-APPLE-RADIUS=100;X-TITLE=WGV Renais
 sance Hotel:geo:0,0
END:VEVENT
BEGIN:VTIMEZONE
TZID:America/New_York
X-LIC-LOCATION:America/New_York
BEGIN:STANDARD
DTSTART:20251102T010000
TZOFFSETFROM:-0400
TZOFFSETTO:-0500
TZNAME:EST
END:STANDARD
END:VTIMEZONE
END:VCALENDAR