BEGIN:VCALENDAR
VERSION:2.0
PRODID:-//wp-events-plugin.com//7.2.3.1//EN
TZID:America/New_York
X-WR-TIMEZONE:America/New_York
BEGIN:VEVENT
UID:1810@floridasportscards.com
DTSTART;TZID=America/New_York:20260207T100000
DTEND;TZID=America/New_York:20260207T130000
DTSTAMP:20260206T042736Z
URL:https://floridasportscards.com/events/alex-kirilloff-ryan-naumovski-au
 tograph-signing-ft-myers/
SUMMARY:Alex Kirilloff\, Ryan Naumovski Autograph Signing - Ft. Myers
DESCRIPTION:
ATTACH;FMTTYPE=image/jpeg:https://floridasportscards.com/wp-content/upload
 s/2026/02/0207-Auto-Signings-SWFL.webp
CATEGORIES:Autograph Signings
LOCATION:Caloosa Sound Convention Center\, 1375 Monroe St\, Fort Myers\, FL
 \, 33901\, United States
X-APPLE-STRUCTURED-LOCATION;VALUE=URI;X-ADDRESS=1375 Monroe St\, Fort Myers
 \, FL\, 33901\, United States;X-APPLE-RADIUS=100;X-TITLE=Caloosa Sound Con
 vention Center:geo:0,0
END:VEVENT
BEGIN:VTIMEZONE
TZID:America/New_York
X-LIC-LOCATION:America/New_York
BEGIN:STANDARD
DTSTART:20251102T010000
TZOFFSETFROM:-0400
TZOFFSETTO:-0500
TZNAME:EST
END:STANDARD
END:VTIMEZONE
END:VCALENDAR