BEGIN:VCALENDAR
VERSION:2.0
PRODID:-//wp-events-plugin.com//7.2.3.1//EN
TZID:America/New_York
X-WR-TIMEZONE:America/New_York
BEGIN:VEVENT
UID:1597@floridasportscards.com
DTSTART;TZID=America/New_York:20260117T160000
DTEND;TZID=America/New_York:20260117T160000
DTSTAMP:20260105T003822Z
URL:https://floridasportscards.com/events/all-tcgs-sports-cards-trade-nigh
 t-at-fast-break-sports-cards-st-cloud/
SUMMARY:All TCG's & Sports Cards Trade Night at Fast Break Sports Cards - S
 t. Cloud
DESCRIPTION:
ATTACH;FMTTYPE=image/jpeg:https://floridasportscards.com/wp-content/upload
 s/2026/01/0117-Fast-Break-trade.webp
CATEGORIES:In-Store Event
LOCATION:Fast Break Trading Cards & Memorabilia\, 2035 Old Hickory Tree Rd\
 , St. Cloud\, FL\, 34771\, United States
X-APPLE-STRUCTURED-LOCATION;VALUE=URI;X-ADDRESS=2035 Old Hickory Tree Rd\, 
 St. Cloud\, FL\, 34771\, United States;X-APPLE-RADIUS=100;X-TITLE=Fast Bre
 ak Trading Cards & Memorabilia:geo:0,0
END:VEVENT
BEGIN:VTIMEZONE
TZID:America/New_York
X-LIC-LOCATION:America/New_York
BEGIN:STANDARD
DTSTART:20251102T010000
TZOFFSETFROM:-0400
TZOFFSETTO:-0500
TZNAME:EST
END:STANDARD
END:VTIMEZONE
END:VCALENDAR