BEGIN:VCALENDAR
VERSION:2.0
PRODID:-//wp-events-plugin.com//7.2.3.1//EN
TZID:America/New_York
X-WR-TIMEZONE:America/New_York
BEGIN:VEVENT
UID:1578@floridasportscards.com
DTSTART;TZID=America/New_York:20260314T090000
DTEND;TZID=America/New_York:20260314T150000
DTSTAMP:20260105T001504Z
URL:https://floridasportscards.com/events/anchor-up-card-show-pensacola-20
 26-01-10-2026-02-14-2026-03-14/
SUMMARY:Anchor Up Card Show - Pensacola
DESCRIPTION:
ATTACH;FMTTYPE=image/jpeg:https://floridasportscards.com/wp-content/upload
 s/2026/01/0110-Anchor-Up.webp
CATEGORIES:Card Shows
LOCATION:VFW Post 706\, 5000 W Lillian Hwy\, Pensacola\, FL\, 32506\, Unite
 d States
X-APPLE-STRUCTURED-LOCATION;VALUE=URI;X-ADDRESS=5000 W Lillian Hwy\, Pensac
 ola\, FL\, 32506\, United States;X-APPLE-RADIUS=100;X-TITLE=VFW Post 706:g
 eo:0,0
END:VEVENT
BEGIN:VTIMEZONE
TZID:America/New_York
X-LIC-LOCATION:America/New_York
BEGIN:DAYLIGHT
DTSTART:20260308T030000
TZOFFSETFROM:-0500
TZOFFSETTO:-0400
TZNAME:EDT
END:DAYLIGHT
END:VTIMEZONE
END:VCALENDAR