BEGIN:VCALENDAR
VERSION:2.0
PRODID:-//wp-events-plugin.com//7.2.3.1//EN
TZID:America/New_York
X-WR-TIMEZONE:America/New_York
BEGIN:VEVENT
UID:1777@floridasportscards.com
DTSTART;TZID=America/New_York:20260221T130000
DTEND;TZID=America/New_York:20260221T143000
DTSTAMP:20260127T034901Z
URL:https://floridasportscards.com/events/art-shamsky-autograph-signing-po
 rt-st-lucie/
SUMMARY:Art Shamsky Autograph Signing - Port St. Lucie
DESCRIPTION:
ATTACH;FMTTYPE=image/jpeg:https://floridasportscards.com/wp-content/upload
 s/2026/01/0221-MidFlorida-Autographs.jpg
CATEGORIES:Autograph Signings
LOCATION:MidFlorida Event Center\, 9261 SE Civic Center Pl\, Port St. Lucie
 \, FL\, 34952\, United States
X-APPLE-STRUCTURED-LOCATION;VALUE=URI;X-ADDRESS=9261 SE Civic Center Pl\, P
 ort St. Lucie\, FL\, 34952\, United States;X-APPLE-RADIUS=100;X-TITLE=MidF
 lorida Event Center:geo:0,0
END:VEVENT
BEGIN:VTIMEZONE
TZID:America/New_York
X-LIC-LOCATION:America/New_York
BEGIN:STANDARD
DTSTART:20251102T010000
TZOFFSETFROM:-0400
TZOFFSETTO:-0500
TZNAME:EST
END:STANDARD
END:VTIMEZONE
END:VCALENDAR