BEGIN:VCALENDAR
VERSION:2.0
PRODID:-//wp-events-plugin.com//7.2.3.1//EN
TZID:America/New_York
X-WR-TIMEZONE:America/New_York
BEGIN:VEVENT
UID:1553@floridasportscards.com
DTSTART;TZID=America/New_York:20260214T090000
DTEND;TZID=America/New_York:20260214T180000
DTSTAMP:20251222T205328Z
URL:https://floridasportscards.com/events/astrocon-north-florida-card-show
 -st-augustine/
SUMMARY:AstroCon North Florida Card Show - St. Augustine
DESCRIPTION:AstroCon is North Florida’s newest trading card show\, bringi
 ng together sports card collectors\, Pokémon fans\, TCG enthusiasts\, and
  hobby lovers for a high-energy\, interactive event.\n\nOur first show lau
 nches at the brand-new Prime Sports Arena in St. Augustine with 100 vendor
  tables\, free attendee entry\, giveaways\, music\, food\, games\, and an 
 atmosphere built for fun and community.\n\nWe’re here to redefine what a
  card show can be through big-time marketing\, local partnerships\, engagi
 ng experiences\, and a collector-first approach.\n\nFollow us for updates\
 , vendor info\, giveaways\, and everything happening leading up to AstroCo
 n: North Florida Card Show.
ATTACH;FMTTYPE=image/jpeg:https://floridasportscards.com/wp-content/upload
 s/2025/12/0214-AstroCon.webp
CATEGORIES:Card Shows
LOCATION:Prime Sports Arena\, 104 Libery Center Pl\, St. Augustine\, FL\, 3
 2092\, United States
X-APPLE-STRUCTURED-LOCATION;VALUE=URI;X-ADDRESS=104 Libery Center Pl\, St. 
 Augustine\, FL\, 32092\, United States;X-APPLE-RADIUS=100;X-TITLE=Prime Sp
 orts Arena:geo:0,0
END:VEVENT
BEGIN:VTIMEZONE
TZID:America/New_York
X-LIC-LOCATION:America/New_York
BEGIN:STANDARD
DTSTART:20251102T010000
TZOFFSETFROM:-0400
TZOFFSETTO:-0500
TZNAME:EST
END:STANDARD
END:VTIMEZONE
END:VCALENDAR