BEGIN:VCALENDAR
VERSION:2.0
PRODID:-//wp-events-plugin.com//7.2.3.1//EN
TZID:America/New_York
X-WR-TIMEZONE:America/New_York
BEGIN:VEVENT
UID:1556@floridasportscards.com
DTSTART;TZID=America/New_York:20260103T090000
DTEND;TZID=America/New_York:20260103T150000
DTSTAMP:20251230T034413Z
URL:https://floridasportscards.com/events/bay-area-card-show-clearwater-2/
SUMMARY:Bay Area Card Show - Clearwater
DESCRIPTION:
ATTACH;FMTTYPE=image/jpeg:https://floridasportscards.com/wp-content/upload
 s/2024/04/bay-area-card-show-2.jpg
CATEGORIES:Card Shows
LOCATION:Banquet Masters\, 13355 49th St N\, Clearwater\, FL\, 33762\, Unit
 ed States
X-APPLE-STRUCTURED-LOCATION;VALUE=URI;X-ADDRESS=13355 49th St N\, Clearwate
 r\, FL\, 33762\, United States;X-APPLE-RADIUS=100;X-TITLE=Banquet Masters:
 geo:0,0
END:VEVENT
BEGIN:VTIMEZONE
TZID:America/New_York
X-LIC-LOCATION:America/New_York
BEGIN:STANDARD
DTSTART:20251102T010000
TZOFFSETFROM:-0400
TZOFFSETTO:-0500
TZNAME:EST
END:STANDARD
END:VTIMEZONE
END:VCALENDAR