BEGIN:VCALENDAR
VERSION:2.0
PRODID:-//wp-events-plugin.com//7.2.3.1//EN
TZID:America/New_York
X-WR-TIMEZONE:America/New_York
BEGIN:VEVENT
UID:1388@floridasportscards.com
DTSTART;TZID=America/New_York:20260322T090000
DTEND;TZID=America/New_York:20260322T150000
DTSTAMP:20251219T045541Z
URL:https://floridasportscards.com/events/boca-raton-sports-cards-collecti
 bles-show-boca-raton-2/
SUMMARY:Boca Raton Sports Cards & Collectibles Show - Boca Raton
DESCRIPTION:
ATTACH;FMTTYPE=image/jpeg:https://floridasportscards.com/wp-content/upload
 s/2025/10/Boca-Card-Show-2026-1.webp
CATEGORIES:Card Shows
LOCATION:Renaissance Boca Raton Hotel\, 2000 NW 19th St\, Boca Raton\, FL\,
  33431\, United States
X-APPLE-STRUCTURED-LOCATION;VALUE=URI;X-ADDRESS=2000 NW 19th St\, Boca Rato
 n\, FL\, 33431\, United States;X-APPLE-RADIUS=100;X-TITLE=Renaissance Boca
  Raton Hotel:geo:0,0
END:VEVENT
BEGIN:VTIMEZONE
TZID:America/New_York
X-LIC-LOCATION:America/New_York
BEGIN:DAYLIGHT
DTSTART:20260308T030000
TZOFFSETFROM:-0500
TZOFFSETTO:-0400
TZNAME:EDT
END:DAYLIGHT
END:VTIMEZONE
END:VCALENDAR