BEGIN:VCALENDAR
VERSION:2.0
PRODID:-//wp-events-plugin.com//7.2.3.1//EN
TZID:America/New_York
X-WR-TIMEZONE:America/New_York
BEGIN:VEVENT
UID:1872@floridasportscards.com
DTSTART;TZID=America/New_York:20260418T143000
DTEND;TZID=America/New_York:20260418T173000
DTSTAMP:20260224T180827Z
URL:https://floridasportscards.com/events/bret-hart-autograph-signing-well
 ington/
SUMMARY:Bret Hart Autograph Signing - Wellington
DESCRIPTION:Bret Hart autograph signing in Wellington\, FL at Palm Beach au
 tographs
ATTACH;FMTTYPE=image/jpeg:https://floridasportscards.com/wp-content/upload
 s/2026/02/0418-Bret-Hart.webp
CATEGORIES:Autograph Signings
LOCATION:Palm Beach Autographs\, 10300 Forest Hill Blvd #118\, Wellington\,
  FL\, 33414\, United States
X-APPLE-STRUCTURED-LOCATION;VALUE=URI;X-ADDRESS=10300 Forest Hill Blvd #118
 \, Wellington\, FL\, 33414\, United States;X-APPLE-RADIUS=100;X-TITLE=Palm
  Beach Autographs:geo:0,0
END:VEVENT
BEGIN:VTIMEZONE
TZID:America/New_York
X-LIC-LOCATION:America/New_York
BEGIN:DAYLIGHT
DTSTART:20260308T030000
TZOFFSETFROM:-0500
TZOFFSETTO:-0400
TZNAME:EDT
END:DAYLIGHT
END:VTIMEZONE
END:VCALENDAR