BEGIN:VCALENDAR
VERSION:2.0
PRODID:-//wp-events-plugin.com//7.2.3.1//EN
TZID:America/New_York
X-WR-TIMEZONE:America/New_York
BEGIN:VEVENT
UID:2036@floridasportscards.com
DTSTART;TZID=America/New_York:20260425T100000
DTEND;TZID=America/New_York:20260425T150000
DTSTAMP:20260402T010449Z
URL:https://floridasportscards.com/events/brooklyns-sports-card-show-venic
 e/
SUMMARY:Brooklyn's Sports Card Show - Venice
DESCRIPTION:
ATTACH;FMTTYPE=image/jpeg:https://floridasportscards.com/wp-content/upload
 s/2026/04/0425-Brooklyn.webp
CATEGORIES:Card Shows
LOCATION:Norma Jean's Sports Bar\, 1635 US 41 By-Pass\, Venice\, FL\, 34292
 \, United States
X-APPLE-STRUCTURED-LOCATION;VALUE=URI;X-ADDRESS=1635 US 41 By-Pass\, Venice
 \, FL\, 34292\, United States;X-APPLE-RADIUS=100;X-TITLE=Norma Jean's Spor
 ts Bar:geo:0,0
END:VEVENT
BEGIN:VTIMEZONE
TZID:America/New_York
X-LIC-LOCATION:America/New_York
BEGIN:DAYLIGHT
DTSTART:20260308T030000
TZOFFSETFROM:-0500
TZOFFSETTO:-0400
TZNAME:EDT
END:DAYLIGHT
END:VTIMEZONE
END:VCALENDAR