BEGIN:VCALENDAR
VERSION:2.0
PRODID:-//wp-events-plugin.com//7.2.3.1//EN
TZID:America/New_York
X-WR-TIMEZONE:America/New_York
BEGIN:VEVENT
UID:1778@floridasportscards.com
DTSTART;TZID=America/New_York:20260221T090000
DTEND;TZID=America/New_York:20260221T150000
DTSTAMP:20260218T200057Z
URL:https://floridasportscards.com/events/card-show-and-topps-rip-night-bl
 ue-breaks-venice/
SUMMARY:Card Show and Topps Rip Night Blue Breaks - Venice
DESCRIPTION:Topps Hobby Rip Night at Blue Breaks in Sarasota\, FL
ATTACH;FMTTYPE=image/jpeg:https://floridasportscards.com/wp-content/upload
 s/2026/01/0221-Blue-Breaks-Venice-Rip-Night.webp
CATEGORIES:In-Store Event
LOCATION:Blue Breaks Sports Card Hobby Shop\, 1213 US Hwy 41 Bypass S\, Ven
 ice\, FL\, 34285\, United States
X-APPLE-STRUCTURED-LOCATION;VALUE=URI;X-ADDRESS=1213 US Hwy 41 Bypass S\, V
 enice\, FL\, 34285\, United States;X-APPLE-RADIUS=100;X-TITLE=Blue Breaks 
 Sports Card Hobby Shop:geo:0,0
END:VEVENT
BEGIN:VTIMEZONE
TZID:America/New_York
X-LIC-LOCATION:America/New_York
BEGIN:STANDARD
DTSTART:20251102T010000
TZOFFSETFROM:-0400
TZOFFSETTO:-0500
TZNAME:EST
END:STANDARD
END:VTIMEZONE
END:VCALENDAR