BEGIN:VCALENDAR
VERSION:2.0
PRODID:-//wp-events-plugin.com//7.2.3.1//EN
TZID:America/New_York
X-WR-TIMEZONE:America/New_York
BEGIN:VEVENT
UID:1613@floridasportscards.com
DTSTART;TZID=America/New_York:20260117T100000
DTEND;TZID=America/New_York:20260117T160000
DTSTAMP:20260107T050009Z
URL:https://floridasportscards.com/events/card-show-by-the-bay-st-petersbu
 rg-4/
SUMMARY:Card Show by the Bay - St. Petersburg
DESCRIPTION:
ATTACH;FMTTYPE=image/jpeg:https://floridasportscards.com/wp-content/upload
 s/2024/03/tbcs.jpg
CATEGORIES:Card Shows
LOCATION:Hilton St. Petersburg Carillon Park\, 950 Lake Carillon Dr\, St. P
 etersburg\, FL\, 33716\, United States
X-APPLE-STRUCTURED-LOCATION;VALUE=URI;X-ADDRESS=950 Lake Carillon Dr\, St. 
 Petersburg\, FL\, 33716\, United States;X-APPLE-RADIUS=100;X-TITLE=Hilton 
 St. Petersburg Carillon Park:geo:0,0
END:VEVENT
BEGIN:VTIMEZONE
TZID:America/New_York
X-LIC-LOCATION:America/New_York
BEGIN:STANDARD
DTSTART:20251102T010000
TZOFFSETFROM:-0400
TZOFFSETTO:-0500
TZNAME:EST
END:STANDARD
END:VTIMEZONE
END:VCALENDAR