BEGIN:VCALENDAR
VERSION:2.0
PRODID:-//wp-events-plugin.com//7.2.3.1//EN
TZID:America/New_York
X-WR-TIMEZONE:America/New_York
BEGIN:VEVENT
UID:1433@floridasportscards.com
DTSTART;TZID=America/New_York:20260314T113000
DTEND;TZID=America/New_York:20260314T160000
DTSTAMP:20251106T210152Z
URL:https://floridasportscards.com/events/cardcala-ocala-2/
SUMMARY:Cardcala - Ocala
DESCRIPTION:
ATTACH;FMTTYPE=image/jpeg:https://floridasportscards.com/wp-content/upload
 s/2025/11/0314-Cardcala.jpeg
CATEGORIES:Card Shows
LOCATION:VFW Post 4781\, 9401 SW 110th St\, Ocala\, FL\, 34481\, United Sta
 tes
X-APPLE-STRUCTURED-LOCATION;VALUE=URI;X-ADDRESS=9401 SW 110th St\, Ocala\, 
 FL\, 34481\, United States;X-APPLE-RADIUS=100;X-TITLE=VFW Post 4781:geo:0,
 0
END:VEVENT
BEGIN:VTIMEZONE
TZID:America/New_York
X-LIC-LOCATION:America/New_York
BEGIN:DAYLIGHT
DTSTART:20260308T030000
TZOFFSETFROM:-0500
TZOFFSETTO:-0400
TZNAME:EDT
END:DAYLIGHT
END:VTIMEZONE
END:VCALENDAR