BEGIN:VCALENDAR
VERSION:2.0
PRODID:-//wp-events-plugin.com//7.2.3.1//EN
TZID:America/New_York
X-WR-TIMEZONE:America/New_York
BEGIN:VEVENT
UID:1805@floridasportscards.com
DTSTART;TZID=America/New_York:20260509T093000
DTEND;TZID=America/New_York:20260509T150000
DTSTAMP:20260204T033516Z
URL:https://floridasportscards.com/events/cardcala-ocala-3/
SUMMARY:Cardcala - Ocala
DESCRIPTION:
ATTACH;FMTTYPE=image/jpeg:https://floridasportscards.com/wp-content/upload
 s/2026/02/0509-CardCala-scaled-e1770176092917.webp
CATEGORIES:Card Shows
LOCATION:Klein Conference Center at College of Central Florida\, 3001 SW Co
 llege Rd\, Ocala\, FL\, 34474\, United States
X-APPLE-STRUCTURED-LOCATION;VALUE=URI;X-ADDRESS=3001 SW College Rd\, Ocala\
 , FL\, 34474\, United States;X-APPLE-RADIUS=100;X-TITLE=Klein Conference C
 enter at College of Central Florida:geo:0,0
END:VEVENT
BEGIN:VTIMEZONE
TZID:America/New_York
X-LIC-LOCATION:America/New_York
BEGIN:DAYLIGHT
DTSTART:20260308T030000
TZOFFSETFROM:-0500
TZOFFSETTO:-0400
TZNAME:EDT
END:DAYLIGHT
END:VTIMEZONE
END:VCALENDAR