BEGIN:VCALENDAR
VERSION:2.0
PRODID:-//wp-events-plugin.com//7.2.3.1//EN
TZID:America/New_York
X-WR-TIMEZONE:America/New_York
BEGIN:VEVENT
UID:1641@floridasportscards.com
DTSTART;TZID=America/New_York:20260111T110000
DTEND;TZID=America/New_York:20260111T170000
DTSTAMP:20260108T190742Z
URL:https://floridasportscards.com/events/cardichu-pompano-beach/
SUMMARY:Cardichu - Pompano Beach
DESCRIPTION:
ATTACH;FMTTYPE=image/jpeg:https://floridasportscards.com/wp-content/upload
 s/2026/01/0111-cardichu.webp
CATEGORIES:Card Shows
LOCATION:D1 Training\, 1401 Green Rd\, Deerfield Beach\, FL\, 33064\, Unite
 d States
X-APPLE-STRUCTURED-LOCATION;VALUE=URI;X-ADDRESS=1401 Green Rd\, Deerfield B
 each\, FL\, 33064\, United States;X-APPLE-RADIUS=100;X-TITLE=D1 Training:g
 eo:0,0
END:VEVENT
BEGIN:VTIMEZONE
TZID:America/New_York
X-LIC-LOCATION:America/New_York
BEGIN:STANDARD
DTSTART:20251102T010000
TZOFFSETFROM:-0400
TZOFFSETTO:-0500
TZNAME:EST
END:STANDARD
END:VTIMEZONE
END:VCALENDAR