BEGIN:VCALENDAR
VERSION:2.0
PRODID:-//wp-events-plugin.com//7.2.3.1//EN
TZID:America/New_York
X-WR-TIMEZONE:America/New_York
BEGIN:VEVENT
UID:2042@floridasportscards.com
DTSTART;TZID=America/New_York;VALUE=DATE:20260815
DTEND;TZID=America/New_York;VALUE=DATE:20260816
DTSTAMP:20260408T024220Z
URL:https://floridasportscards.com/events/citrus-county-trading-card-and-m
 emorabilia-expo-hernando-3/
SUMMARY:Citrus County Trading Card and Memorabilia Expo - Hernando
DESCRIPTION:
CATEGORIES:Card Shows
LOCATION:Quality Inn & Suites Conference Center - Hernando\, 350 E. Norvell
  Bryant Hwy\, Hernando\, FL\, 34442\, United States
X-APPLE-STRUCTURED-LOCATION;VALUE=URI;X-ADDRESS=350 E. Norvell Bryant Hwy\,
  Hernando\, FL\, 34442\, United States;X-APPLE-RADIUS=100;X-TITLE=Quality 
 Inn & Suites Conference Center - Hernando:geo:0,0
END:VEVENT
BEGIN:VTIMEZONE
TZID:America/New_York
X-LIC-LOCATION:America/New_York
BEGIN:DAYLIGHT
DTSTART:20260308T030000
TZOFFSETFROM:-0500
TZOFFSETTO:-0400
TZNAME:EDT
END:DAYLIGHT
END:VTIMEZONE
END:VCALENDAR