BEGIN:VCALENDAR
VERSION:2.0
PRODID:-//wp-events-plugin.com//7.2.3.1//EN
TZID:America/New_York
X-WR-TIMEZONE:America/New_York
BEGIN:VEVENT
UID:2039@floridasportscards.com
DTSTART;TZID=America/New_York:20260410T140000
DTEND;TZID=America/New_York:20260410T200000
DTSTAMP:20260407T040920Z
URL:https://floridasportscards.com/events/clearwater-bay-area-card-show-cl
 earwater-2-2026-04-10/
SUMMARY:Clearwater Bay Area Card Show - Clearwater
DESCRIPTION:
ATTACH;FMTTYPE=image/jpeg:https://floridasportscards.com/wp-content/upload
 s/2026/04/0410-0411-Clearwater.webp
CATEGORIES:Card Shows
LOCATION:Banquet Masters\, 13355 49th St N\, Clearwater\, FL\, 33762\, Unit
 ed States
X-APPLE-STRUCTURED-LOCATION;VALUE=URI;X-ADDRESS=13355 49th St N\, Clearwate
 r\, FL\, 33762\, United States;X-APPLE-RADIUS=100;X-TITLE=Banquet Masters:
 geo:0,0
END:VEVENT
BEGIN:VTIMEZONE
TZID:America/New_York
X-LIC-LOCATION:America/New_York
BEGIN:DAYLIGHT
DTSTART:20260308T030000
TZOFFSETFROM:-0500
TZOFFSETTO:-0400
TZNAME:EDT
END:DAYLIGHT
END:VTIMEZONE
END:VCALENDAR