BEGIN:VCALENDAR
VERSION:2.0
PRODID:-//wp-events-plugin.com//7.2.3.1//EN
TZID:America/New_York
X-WR-TIMEZONE:America/New_York
BEGIN:VEVENT
UID:1853@floridasportscards.com
DTSTART;TZID=America/New_York:20260613T090000
DTEND;TZID=America/New_York:20260613T180000
DTSTAMP:20260217T040130Z
URL:https://floridasportscards.com/events/coast-to-coast-card-show-deland/
SUMMARY:Coast To Coast Card Show - Deland
DESCRIPTION:Coast to Coast Card Show in Deland\, FL on June 13th\, 2026
ATTACH;FMTTYPE=image/jpeg:https://floridasportscards.com/wp-content/upload
 s/2026/02/0613-Coast-to-Coast.webp
CATEGORIES:Card Shows
LOCATION:Volusia County Fair Expo\, 3150 E New York Ave\, Deland\, FL\, 327
 24\, United States
X-APPLE-STRUCTURED-LOCATION;VALUE=URI;X-ADDRESS=3150 E New York Ave\, Delan
 d\, FL\, 32724\, United States;X-APPLE-RADIUS=100;X-TITLE=Volusia County F
 air Expo:geo:0,0
END:VEVENT
BEGIN:VTIMEZONE
TZID:America/New_York
X-LIC-LOCATION:America/New_York
BEGIN:DAYLIGHT
DTSTART:20260308T030000
TZOFFSETFROM:-0500
TZOFFSETTO:-0400
TZNAME:EDT
END:DAYLIGHT
END:VTIMEZONE
END:VCALENDAR