BEGIN:VCALENDAR
VERSION:2.0
PRODID:-//wp-events-plugin.com//7.2.3.1//EN
TZID:America/New_York
X-WR-TIMEZONE:America/New_York
BEGIN:VEVENT
UID:1745@floridasportscards.com
DTSTART;TZID=America/New_York:20260222T100000
DTEND;TZID=America/New_York:20260222T170000
DTSTAMP:20260118T152920Z
URL:https://floridasportscards.com/events/collect-a-con-fort-lauderdale-2-
 2026-02-21-2026-02-22/
SUMMARY:Collect-A-Con - Fort Lauderdale
DESCRIPTION:
ATTACH;FMTTYPE=image/jpeg:https://floridasportscards.com/wp-content/upload
 s/2026/01/0221-0222-Collect-A-Con.webp
CATEGORIES:Card Shows
LOCATION:Broward County Convention Center\, 1950 Eisenhower Blvd\, Ft. Laud
 erdale\, FL\, 33316\, United States
X-APPLE-STRUCTURED-LOCATION;VALUE=URI;X-ADDRESS=1950 Eisenhower Blvd\, Ft. 
 Lauderdale\, FL\, 33316\, United States;X-APPLE-RADIUS=100;X-TITLE=Broward
  County Convention Center:geo:0,0
END:VEVENT
BEGIN:VTIMEZONE
TZID:America/New_York
X-LIC-LOCATION:America/New_York
BEGIN:STANDARD
DTSTART:20251102T010000
TZOFFSETFROM:-0400
TZOFFSETTO:-0500
TZNAME:EST
END:STANDARD
END:VTIMEZONE
END:VCALENDAR