BEGIN:VCALENDAR
VERSION:2.0
PRODID:-//wp-events-plugin.com//7.2.3.1//EN
TZID:America/New_York
X-WR-TIMEZONE:America/New_York
BEGIN:VEVENT
UID:1780@floridasportscards.com
DTSTART;TZID=America/New_York:20260301T110000
DTEND;TZID=America/New_York:20260301T170000
DTSTAMP:20260127T035524Z
URL:https://floridasportscards.com/events/community-card-show-ft-myers/
SUMMARY:Community Card Show - Ft. Myers
DESCRIPTION:
ATTACH;FMTTYPE=image/jpeg:https://floridasportscards.com/wp-content/upload
 s/2026/01/0301-COmmunity-Ft-myers.webp
CATEGORIES:Card Shows
LOCATION:Lightning Strikes Bowl\, 4140 Fowler St\, Ft. Myers\, FL\, 33901\,
  United States
X-APPLE-STRUCTURED-LOCATION;VALUE=URI;X-ADDRESS=4140 Fowler St\, Ft. Myers\
 , FL\, 33901\, United States;X-APPLE-RADIUS=100;X-TITLE=Lightning Strikes 
 Bowl:geo:0,0
END:VEVENT
BEGIN:VTIMEZONE
TZID:America/New_York
X-LIC-LOCATION:America/New_York
BEGIN:STANDARD
DTSTART:20251102T010000
TZOFFSETFROM:-0400
TZOFFSETTO:-0500
TZNAME:EST
END:STANDARD
END:VTIMEZONE
END:VCALENDAR