BEGIN:VCALENDAR
VERSION:2.0
PRODID:-//wp-events-plugin.com//7.2.3.1//EN
TZID:America/New_York
X-WR-TIMEZONE:America/New_York
BEGIN:VEVENT
UID:1890@floridasportscards.com
DTSTART;TZID=America/New_York:20260322T090000
DTEND;TZID=America/New_York:20260322T160000
DTSTAMP:20260304T034232Z
URL:https://floridasportscards.com/events/dade-county-card-show-miami-spri
 ngs-2/
SUMMARY:Dade County Card Show - Miami Springs
DESCRIPTION:Miami Dade Card Show in Miami Springs
ATTACH;FMTTYPE=image/jpeg:https://floridasportscards.com/wp-content/upload
 s/2026/03/0322-Dade-County-Card-Show.webp
CATEGORIES:Card Shows
LOCATION:Holiday Inn - Miami-International Airport\, 1111 S Royal Poinciana
  Blvd\, Miami Springs\, FL\, United States
X-APPLE-STRUCTURED-LOCATION;VALUE=URI;X-ADDRESS=1111 S Royal Poinciana Blvd
 \, Miami Springs\, FL\, United States;X-APPLE-RADIUS=100;X-TITLE=Holiday I
 nn - Miami-International Airport:geo:0,0
END:VEVENT
BEGIN:VTIMEZONE
TZID:America/New_York
X-LIC-LOCATION:America/New_York
BEGIN:DAYLIGHT
DTSTART:20260308T030000
TZOFFSETFROM:-0500
TZOFFSETTO:-0400
TZNAME:EDT
END:DAYLIGHT
END:VTIMEZONE
END:VCALENDAR