BEGIN:VCALENDAR
VERSION:2.0
PRODID:-//wp-events-plugin.com//7.2.3.1//EN
TZID:America/New_York
X-WR-TIMEZONE:America/New_York
BEGIN:VEVENT
UID:1600@floridasportscards.com
DTSTART;TZID=America/New_York;VALUE=DATE:20260124
DTEND;TZID=America/New_York;VALUE=DATE:20260125
DTSTAMP:20260131T172005Z
URL:https://floridasportscards.com/events/delray-card-social-delray-beach-
 2026-01-31/
SUMMARY:Delray Card Show - Delray Beach
DESCRIPTION:
ATTACH;FMTTYPE=image/jpeg:https://floridasportscards.com/wp-content/upload
 s/2026/01/0124-Delray.webp
CATEGORIES:Card Shows
LOCATION:Elks Lodge - Delray Beach\, 265 NE 4th Ave\, Delray Beach\, FL\, 3
 3483\, United States
X-APPLE-STRUCTURED-LOCATION;VALUE=URI;X-ADDRESS=265 NE 4th Ave\, Delray Bea
 ch\, FL\, 33483\, United States;X-APPLE-RADIUS=100;X-TITLE=Elks Lodge - De
 lray Beach:geo:0,0
END:VEVENT
BEGIN:VTIMEZONE
TZID:America/New_York
X-LIC-LOCATION:America/New_York
BEGIN:STANDARD
DTSTART:20251102T010000
TZOFFSETFROM:-0400
TZOFFSETTO:-0500
TZNAME:EST
END:STANDARD
END:VTIMEZONE
END:VCALENDAR