BEGIN:VCALENDAR
VERSION:2.0
PRODID:-//wp-events-plugin.com//7.2.3.1//EN
TZID:America/New_York
X-WR-TIMEZONE:America/New_York
BEGIN:VEVENT
UID:1549@floridasportscards.com
DTSTART;TZID=America/New_York:20260117T130000
DTEND;TZID=America/New_York:20260117T150000
DTSTAMP:20251222T204137Z
URL:https://floridasportscards.com/events/dexter-jackson-autograph-signing
 -tampa/
SUMMARY:Dexter Jackson Autograph Signing - Tampa
DESCRIPTION:
ATTACH;FMTTYPE=image/jpeg:https://floridasportscards.com/wp-content/upload
 s/2025/12/0117-Bucs.webp
CATEGORIES:Autograph Signings
LOCATION:Palm Beach Autographs - Tampa\, 2223 N Westshore Blvd\, Suite 288\
 , Tampa\, FL\, 33607\, United States
X-APPLE-STRUCTURED-LOCATION;VALUE=URI;X-ADDRESS=2223 N Westshore Blvd\, Sui
 te 288\, Tampa\, FL\, 33607\, United States;X-APPLE-RADIUS=100;X-TITLE=Pal
 m Beach Autographs - Tampa:geo:0,0
END:VEVENT
BEGIN:VTIMEZONE
TZID:America/New_York
X-LIC-LOCATION:America/New_York
BEGIN:STANDARD
DTSTART:20251102T010000
TZOFFSETFROM:-0400
TZOFFSETTO:-0500
TZNAME:EST
END:STANDARD
END:VTIMEZONE
END:VCALENDAR