BEGIN:VCALENDAR
VERSION:2.0
PRODID:-//wp-events-plugin.com//7.2.3.1//EN
TZID:America/New_York
X-WR-TIMEZONE:America/New_York
BEGIN:VEVENT
UID:2061@floridasportscards.com
DTSTART;TZID=America/New_York:20260524T100000
DTEND;TZID=America/New_York:20260524T160000
DTSTAMP:20260410T162533Z
URL:https://floridasportscards.com/events/dragons-elite-baseball-academy-s
 ports-trading-card-show-west-palm-beach/
SUMMARY:Dragons Elite Baseball Academy Sports & Trading Card Show - West Pa
 lm Beach
DESCRIPTION:
ATTACH;FMTTYPE=image/jpeg:https://floridasportscards.com/wp-content/upload
 s/2026/04/0524-Dragons-Elite.webp
CATEGORIES:Card Shows
LOCATION:Dragons Elite Baseball Academy\, 1225 S Military Tr\, West Palm Be
 ach\, FL\, 33415\, United States
X-APPLE-STRUCTURED-LOCATION;VALUE=URI;X-ADDRESS=1225 S Military Tr\, West P
 alm Beach\, FL\, 33415\, United States;X-APPLE-RADIUS=100;X-TITLE=Dragons 
 Elite Baseball Academy:geo:0,0
END:VEVENT
BEGIN:VTIMEZONE
TZID:America/New_York
X-LIC-LOCATION:America/New_York
BEGIN:DAYLIGHT
DTSTART:20260308T030000
TZOFFSETFROM:-0500
TZOFFSETTO:-0400
TZNAME:EDT
END:DAYLIGHT
END:VTIMEZONE
END:VCALENDAR