BEGIN:VCALENDAR
VERSION:2.0
PRODID:-//wp-events-plugin.com//7.2.3.1//EN
TZID:America/New_York
X-WR-TIMEZONE:America/New_York
BEGIN:VEVENT
UID:1983@floridasportscards.com
DTSTART;TZID=America/New_York:20260328T150000
DTEND;TZID=America/New_York:20260328T170000
DTSTAMP:20260310T020328Z
URL:https://floridasportscards.com/events/dustin-poirier-autograph-signing
 -brandon/
SUMMARY:Dustin Poirier Autograph Signing - Brandon
DESCRIPTION:
ATTACH;FMTTYPE=image/jpeg:https://floridasportscards.com/wp-content/upload
 s/2026/03/0328-Dustin-Poirier.webp
CATEGORIES:Autograph Signings
LOCATION:Palm Beach Autographs - Brandon\, 311 Brandon Town Center\, Brando
 n\, FL\, 33511\, United States
X-APPLE-STRUCTURED-LOCATION;VALUE=URI;X-ADDRESS=311 Brandon Town Center\, B
 randon\, FL\, 33511\, United States;X-APPLE-RADIUS=100;X-TITLE=Palm Beach 
 Autographs - Brandon:geo:0,0
END:VEVENT
BEGIN:VTIMEZONE
TZID:America/New_York
X-LIC-LOCATION:America/New_York
BEGIN:DAYLIGHT
DTSTART:20260308T030000
TZOFFSETFROM:-0500
TZOFFSETTO:-0400
TZNAME:EDT
END:DAYLIGHT
END:VTIMEZONE
END:VCALENDAR