BEGIN:VCALENDAR
VERSION:2.0
PRODID:-//wp-events-plugin.com//7.2.3.1//EN
TZID:America/New_York
X-WR-TIMEZONE:America/New_York
BEGIN:VEVENT
UID:1807@floridasportscards.com
DTSTART;TZID=America/New_York:20260207T100000
DTEND;TZID=America/New_York:20260207T100000
DTSTAMP:20260205T035431Z
URL:https://floridasportscards.com/events/east-west-sports-cards-collectib
 les-2nd-store-grand-opening-naples/
SUMMARY:East West Sports Cards & Collectibles 2nd Store Grand Opening - Nap
 les
DESCRIPTION:East West Sports Cards opens second location in Naples\, FL
ATTACH;FMTTYPE=image/jpeg:https://floridasportscards.com/wp-content/upload
 s/2026/02/0207-East-West.webp
CATEGORIES:In-Store Event
LOCATION:East West Sports Cards & Collectibles - 2nd Location\, 785 5th Ave
  S\, Naples\, FL\, 34102\, United States
X-APPLE-STRUCTURED-LOCATION;VALUE=URI;X-ADDRESS=785 5th Ave S\, Naples\, FL
 \, 34102\, United States;X-APPLE-RADIUS=100;X-TITLE=East West Sports Cards
  & Collectibles - 2nd Location:geo:0,0
END:VEVENT
BEGIN:VTIMEZONE
TZID:America/New_York
X-LIC-LOCATION:America/New_York
BEGIN:STANDARD
DTSTART:20251102T010000
TZOFFSETFROM:-0400
TZOFFSETTO:-0500
TZNAME:EST
END:STANDARD
END:VTIMEZONE
END:VCALENDAR