BEGIN:VCALENDAR
VERSION:2.0
PRODID:-//wp-events-plugin.com//7.2.3.1//EN
TZID:America/New_York
X-WR-TIMEZONE:America/New_York
BEGIN:VEVENT
UID:1311@floridasportscards.com
DTSTART;TZID=America/New_York:20261003T080000
DTEND;TZID=America/New_York:20261003T160000
DTSTAMP:20251003T034632Z
URL:https://floridasportscards.com/events/fort-lauderdale-card-show-fort-l
 auderdale-21/
SUMMARY:Fort Lauderdale Card Show - Fort Lauderdale
DESCRIPTION:Free parking\, free admission!
ATTACH;FMTTYPE=image/jpeg:https://floridasportscards.com/wp-content/upload
 s/2025/02/Ft.-Lauderdale-Double-Palm-Logo.jpg
CATEGORIES:Card Shows
LOCATION:Rodeway Inn & Suites\, 2440 W State Rd 84\, Fort Lauderdale\, FL\,
  33312\, United States
X-APPLE-STRUCTURED-LOCATION;VALUE=URI;X-ADDRESS=2440 W State Rd 84\, Fort L
 auderdale\, FL\, 33312\, United States;X-APPLE-RADIUS=100;X-TITLE=Rodeway 
 Inn & Suites:geo:0,0
END:VEVENT
BEGIN:VTIMEZONE
TZID:America/New_York
X-LIC-LOCATION:America/New_York
BEGIN:DAYLIGHT
DTSTART:20260308T030000
TZOFFSETFROM:-0500
TZOFFSETTO:-0400
TZNAME:EDT
END:DAYLIGHT
END:VTIMEZONE
END:VCALENDAR