BEGIN:VCALENDAR
VERSION:2.0
PRODID:-//wp-events-plugin.com//7.2.3.1//EN
TZID:America/New_York
X-WR-TIMEZONE:America/New_York
BEGIN:VEVENT
UID:1314@floridasportscards.com
DTSTART;TZID=America/New_York:20260306T160000
DTEND;TZID=America/New_York:20260306T210000
DTSTAMP:20260304T034509Z
URL:https://floridasportscards.com/events/fort-lauderdale-card-show-fort-l
 auderdale-24/
SUMMARY:Fort Lauderdale Card Show - Fort Lauderdale
DESCRIPTION:Fort Lauderdale Card Show
ATTACH;FMTTYPE=image/jpeg:https://floridasportscards.com/wp-content/upload
 s/2025/10/0306-0307-FTL.webp
CATEGORIES:Card Shows
LOCATION:Rodeway Inn & Suites\, 2440 W State Rd 84\, Fort Lauderdale\, FL\,
  33312\, United States
X-APPLE-STRUCTURED-LOCATION;VALUE=URI;X-ADDRESS=2440 W State Rd 84\, Fort L
 auderdale\, FL\, 33312\, United States;X-APPLE-RADIUS=100;X-TITLE=Rodeway 
 Inn & Suites:geo:0,0
END:VEVENT
BEGIN:VTIMEZONE
TZID:America/New_York
X-LIC-LOCATION:America/New_York
BEGIN:STANDARD
DTSTART:20251102T010000
TZOFFSETFROM:-0400
TZOFFSETTO:-0500
TZNAME:EST
END:STANDARD
END:VTIMEZONE
END:VCALENDAR