BEGIN:VCALENDAR
VERSION:2.0
PRODID:-//wp-events-plugin.com//7.2.3.1//EN
TZID:America/New_York
X-WR-TIMEZONE:America/New_York
BEGIN:VEVENT
UID:1596@floridasportscards.com
DTSTART;TZID=America/New_York:20260117T160000
DTEND;TZID=America/New_York:20260117T160000
DTSTAMP:20260105T003640Z
URL:https://floridasportscards.com/events/gaming-trade-night-at-game-time-
 cardz-winter-park-2/
SUMMARY:Gaming Trade Night at Game Time Cardz - Winter Park
DESCRIPTION:
ATTACH;FMTTYPE=image/jpeg:https://floridasportscards.com/wp-content/upload
 s/2026/01/0117-Gaming-Trade-Night.webp
CATEGORIES:In-Store Event
LOCATION:Game Time Cardz\, 7414 University Blvd\, Suite 112\, Winter Park\,
  FL\, 32792\, United States
X-APPLE-STRUCTURED-LOCATION;VALUE=URI;X-ADDRESS=7414 University Blvd\, Suit
 e 112\, Winter Park\, FL\, 32792\, United States;X-APPLE-RADIUS=100;X-TITL
 E=Game Time Cardz:geo:0,0
END:VEVENT
BEGIN:VTIMEZONE
TZID:America/New_York
X-LIC-LOCATION:America/New_York
BEGIN:STANDARD
DTSTART:20251102T010000
TZOFFSETFROM:-0400
TZOFFSETTO:-0500
TZNAME:EST
END:STANDARD
END:VTIMEZONE
END:VCALENDAR