BEGIN:VCALENDAR
VERSION:2.0
PRODID:-//wp-events-plugin.com//7.2.3.1//EN
TZID:America/New_York
X-WR-TIMEZONE:America/New_York
BEGIN:VEVENT
UID:1717@floridasportscards.com
DTSTART;TZID=America/New_York;VALUE=DATE:20260124
DTEND;TZID=America/New_York;VALUE=DATE:20260125
DTSTAMP:20260113T035126Z
URL:https://floridasportscards.com/events/hardy-boyz-autograph-signing-day
 tona-beach/
SUMMARY:Hardy Boyz Autograph Signing - Daytona Beach
DESCRIPTION:
CATEGORIES:Autograph Signings
LOCATION:Ocean Center\, 101 N Atlantic Ave\, Daytona Beach\, FL\, 32118\, U
 nited States
X-APPLE-STRUCTURED-LOCATION;VALUE=URI;X-ADDRESS=101 N Atlantic Ave\, Dayton
 a Beach\, FL\, 32118\, United States;X-APPLE-RADIUS=100;X-TITLE=Ocean Cent
 er:geo:0,0
END:VEVENT
BEGIN:VTIMEZONE
TZID:America/New_York
X-LIC-LOCATION:America/New_York
BEGIN:STANDARD
DTSTART:20251102T010000
TZOFFSETFROM:-0400
TZOFFSETTO:-0500
TZNAME:EST
END:STANDARD
END:VTIMEZONE
END:VCALENDAR