BEGIN:VCALENDAR
VERSION:2.0
PRODID:-//wp-events-plugin.com//7.2.3.1//EN
TZID:America/New_York
X-WR-TIMEZONE:America/New_York
BEGIN:VEVENT
UID:1928@floridasportscards.com
DTSTART;TZID=America/New_York:20260307T110000
DTEND;TZID=America/New_York:20260307T170000
DTSTAMP:20260304T042920Z
URL:https://floridasportscards.com/events/hobbycon-expo-pompano-beach-2026
 -03-07/
SUMMARY:Hobbycon Expo - Pompano Beach
DESCRIPTION:
ATTACH;FMTTYPE=image/jpeg:https://floridasportscards.com/wp-content/upload
 s/2026/03/0307-0308-Hobby-Con.webp
CATEGORIES:Card Shows
LOCATION:Tribe Volleyball\, 1801 Green Rd\, Pompano Beach\, FL\, 33064\, Un
 ited States
X-APPLE-STRUCTURED-LOCATION;VALUE=URI;X-ADDRESS=1801 Green Rd\, Pompano Bea
 ch\, FL\, 33064\, United States;X-APPLE-RADIUS=100;X-TITLE=Tribe Volleybal
 l:geo:0,0
END:VEVENT
BEGIN:VTIMEZONE
TZID:America/New_York
X-LIC-LOCATION:America/New_York
BEGIN:STANDARD
DTSTART:20251102T010000
TZOFFSETFROM:-0400
TZOFFSETTO:-0500
TZNAME:EST
END:STANDARD
END:VTIMEZONE
END:VCALENDAR