BEGIN:VCALENDAR
VERSION:2.0
PRODID:-//wp-events-plugin.com//7.2.3.1//EN
TZID:America/New_York
X-WR-TIMEZONE:America/New_York
BEGIN:VEVENT
UID:1851@floridasportscards.com
DTSTART;TZID=America/New_York:20260404T100000
DTEND;TZID=America/New_York:20260404T170000
DTSTAMP:20260327T173405Z
URL:https://floridasportscards.com/events/jensen-beach-card-show-jensen-be
 ach-2/
SUMMARY:Jensen Beach Card Show - Jensen Beach
DESCRIPTION:Jensen Beach Card Show at the Treasure Coast Mall
ATTACH;FMTTYPE=image/jpeg:https://floridasportscards.com/wp-content/upload
 s/2026/02/0404-Jensen-Beach.webp
CATEGORIES:Card Shows
LOCATION:Treasure Coast Square\, 3174 NW Federal Hwy\, Jensen Beach\, FL\, 
 34957\, United States
X-APPLE-STRUCTURED-LOCATION;VALUE=URI;X-ADDRESS=3174 NW Federal Hwy\, Jense
 n Beach\, FL\, 34957\, United States;X-APPLE-RADIUS=100;X-TITLE=Treasure C
 oast Square:geo:0,0
END:VEVENT
BEGIN:VTIMEZONE
TZID:America/New_York
X-LIC-LOCATION:America/New_York
BEGIN:DAYLIGHT
DTSTART:20260308T030000
TZOFFSETFROM:-0500
TZOFFSETTO:-0400
TZNAME:EDT
END:DAYLIGHT
END:VTIMEZONE
END:VCALENDAR