BEGIN:VCALENDAR
VERSION:2.0
PRODID:-//wp-events-plugin.com//7.2.3.1//EN
TZID:America/New_York
X-WR-TIMEZONE:America/New_York
BEGIN:VEVENT
UID:2019@floridasportscards.com
DTSTART;TZID=America/New_York:20260419T130000
DTEND;TZID=America/New_York:20260419T160000
DTSTAMP:20260324T035121Z
URL:https://floridasportscards.com/events/joe-horn-autograph-signing-tampa
 /
SUMMARY:Joe Horn Autograph Signing - Tampa
DESCRIPTION:Joe Horn Autograph Signing at SCGC Sports Cards in Tampa
ATTACH;FMTTYPE=image/jpeg:https://floridasportscards.com/wp-content/upload
 s/2026/03/0419-Joe-Horn.webp
CATEGORIES:Autograph Signings
LOCATION:SCGC Sports Cards\, 9280 Bay Plaza Blvd\, #716\, Tampa\, FL\, 3361
 9\, United States
X-APPLE-STRUCTURED-LOCATION;VALUE=URI;X-ADDRESS=9280 Bay Plaza Blvd\, #716\
 , Tampa\, FL\, 33619\, United States;X-APPLE-RADIUS=100;X-TITLE=SCGC Sport
 s Cards:geo:0,0
END:VEVENT
BEGIN:VTIMEZONE
TZID:America/New_York
X-LIC-LOCATION:America/New_York
BEGIN:DAYLIGHT
DTSTART:20260308T030000
TZOFFSETFROM:-0500
TZOFFSETTO:-0400
TZNAME:EDT
END:DAYLIGHT
END:VTIMEZONE
END:VCALENDAR