BEGIN:VCALENDAR
VERSION:2.0
PRODID:-//wp-events-plugin.com//7.2.3.1//EN
TZID:America/New_York
X-WR-TIMEZONE:America/New_York
BEGIN:VEVENT
UID:1995@floridasportscards.com
DTSTART;TZID=America/New_York;VALUE=DATE:20260314
DTEND;TZID=America/New_York;VALUE=DATE:20260315
DTSTAMP:20260310T021537Z
URL:https://floridasportscards.com/events/keenan-mccardell-autograph-signi
 ng-tampa/
SUMMARY:Keenan McCardell Autograph Signing - Tampa
DESCRIPTION:
ATTACH;FMTTYPE=image/jpeg:https://floridasportscards.com/wp-content/upload
 s/2026/03/0314-Tampa.webp
CATEGORIES:Autograph Signings
LOCATION:Florida State Fairgrounds Special Events Center - MLK Entrance\, 4
 800 US Hwy 301 N\, Tampa\, FL\, 33610\, United States
X-APPLE-STRUCTURED-LOCATION;VALUE=URI;X-ADDRESS=4800 US Hwy 301 N\, Tampa\,
  FL\, 33610\, United States;X-APPLE-RADIUS=100;X-TITLE=Florida State Fairg
 rounds Special Events Center - MLK Entrance:geo:0,0
END:VEVENT
BEGIN:VTIMEZONE
TZID:America/New_York
X-LIC-LOCATION:America/New_York
BEGIN:DAYLIGHT
DTSTART:20260308T030000
TZOFFSETFROM:-0500
TZOFFSETTO:-0400
TZNAME:EDT
END:DAYLIGHT
END:VTIMEZONE
END:VCALENDAR