BEGIN:VCALENDAR
VERSION:2.0
PRODID:-//wp-events-plugin.com//7.2.3.1//EN
TZID:America/New_York
X-WR-TIMEZONE:America/New_York
BEGIN:VEVENT
UID:2071@floridasportscards.com
DTSTART;TZID=America/New_York:20260523T130000
DTEND;TZID=America/New_York:20260523T150000
DTSTAMP:20260417T221222Z
URL:https://floridasportscards.com/events/ken-dorsey-autograph-signing-wel
 lington/
SUMMARY:Ken Dorsey Autograph Signing - Wellington
DESCRIPTION:
ATTACH;FMTTYPE=image/jpeg:https://floridasportscards.com/wp-content/upload
 s/2026/04/0523-Ken-Dorsesy.webp
CATEGORIES:Autograph Signings
LOCATION:Palm Beach Autographs\, 10300 Forest Hill Blvd #118\, Wellington\,
  FL\, 33414\, United States
X-APPLE-STRUCTURED-LOCATION;VALUE=URI;X-ADDRESS=10300 Forest Hill Blvd #118
 \, Wellington\, FL\, 33414\, United States;X-APPLE-RADIUS=100;X-TITLE=Palm
  Beach Autographs:geo:0,0
END:VEVENT
BEGIN:VTIMEZONE
TZID:America/New_York
X-LIC-LOCATION:America/New_York
BEGIN:DAYLIGHT
DTSTART:20260308T030000
TZOFFSETFROM:-0500
TZOFFSETTO:-0400
TZNAME:EDT
END:DAYLIGHT
END:VTIMEZONE
END:VCALENDAR