BEGIN:VCALENDAR
VERSION:2.0
PRODID:-//wp-events-plugin.com//7.2.3.1//EN
TZID:America/New_York
X-WR-TIMEZONE:America/New_York
BEGIN:VEVENT
UID:1459@floridasportscards.com
DTSTART;TZID=America/New_York:20260118T140000
DTEND;TZID=America/New_York:20260118T170000
DTSTAMP:20251111T191633Z
URL:https://floridasportscards.com/events/kurt-angle-autograph-signing-tam
 pa/
SUMMARY:Kurt Angle Autograph Signing - Tampa
DESCRIPTION:
ATTACH;FMTTYPE=image/jpeg:https://floridasportscards.com/wp-content/upload
 s/2025/11/0118-Kurt-Angle.png
CATEGORIES:Autograph Signings
LOCATION:SCGC Sports Cards\, 9280 Bay Plaza Blvd\, #716\, Tampa\, FL\, 3361
 9\, United States
X-APPLE-STRUCTURED-LOCATION;VALUE=URI;X-ADDRESS=9280 Bay Plaza Blvd\, #716\
 , Tampa\, FL\, 33619\, United States;X-APPLE-RADIUS=100;X-TITLE=SCGC Sport
 s Cards:geo:0,0
END:VEVENT
BEGIN:VTIMEZONE
TZID:America/New_York
X-LIC-LOCATION:America/New_York
BEGIN:STANDARD
DTSTART:20251102T010000
TZOFFSETFROM:-0400
TZOFFSETTO:-0500
TZNAME:EST
END:STANDARD
END:VTIMEZONE
END:VCALENDAR