BEGIN:VCALENDAR
VERSION:2.0
PRODID:-//wp-events-plugin.com//7.2.3.1//EN
TZID:America/New_York
X-WR-TIMEZONE:America/New_York
BEGIN:VEVENT
UID:1375@floridasportscards.com
DTSTART;TZID=America/New_York:20261031T090000
DTEND;TZID=America/New_York:20261031T170000
DTSTAMP:20251014T015523Z
URL:https://floridasportscards.com/events/lake-mary-sportscards-pokemon-me
 morabilia-show-lake-mary-10/
SUMMARY:Lake Mary Sportscards\, Pokemon\, & Memorabilia Show - Lake Mary
DESCRIPTION:
CATEGORIES:Card Shows
LOCATION:Parker Hall at True Life Church\, 5400 Markham Woods Rd\, Lake Mar
 y\, FL\, United States
X-APPLE-STRUCTURED-LOCATION;VALUE=URI;X-ADDRESS=5400 Markham Woods Rd\, Lak
 e Mary\, FL\, United States;X-APPLE-RADIUS=100;X-TITLE=Parker Hall at True
  Life Church:geo:0,0
END:VEVENT
BEGIN:VTIMEZONE
TZID:America/New_York
X-LIC-LOCATION:America/New_York
BEGIN:DAYLIGHT
DTSTART:20260308T030000
TZOFFSETFROM:-0500
TZOFFSETTO:-0400
TZNAME:EDT
END:DAYLIGHT
END:VTIMEZONE
END:VCALENDAR