BEGIN:VCALENDAR
VERSION:2.0
PRODID:-//wp-events-plugin.com//7.2.3.1//EN
TZID:America/New_York
X-WR-TIMEZONE:America/New_York
BEGIN:VEVENT
UID:1368@floridasportscards.com
DTSTART;TZID=America/New_York:20260328T090000
DTEND;TZID=America/New_York:20260328T170000
DTSTAMP:20260304T041235Z
URL:https://floridasportscards.com/events/lake-mary-sportscards-pokemon-me
 morabilia-show-lake-mary-3/
SUMMARY:Lake Mary Sportscards\, Pokemon\, & Memorabilia Show - Lake Mary
DESCRIPTION:On the last Saturday of every month from 9am-3pm\, Absolutely A
 uthentic Sports Stuff hosts the Lake Mary Card Show right here at True Lif
 e Church. Items featured include sports cards\, certified autographed memo
 rabilia\, NASCAR collectables and more!\n​\nVendor tables are just $40\,
  and admission is free to the public! Call 352-494-0910 or email smitty092
 2@att.net for more information.
CATEGORIES:Card Shows
LOCATION:Parker Hall at True Life Church\, 5400 Markham Woods Rd\, Lake Mar
 y\, FL\, United States
X-APPLE-STRUCTURED-LOCATION;VALUE=URI;X-ADDRESS=5400 Markham Woods Rd\, Lak
 e Mary\, FL\, United States;X-APPLE-RADIUS=100;X-TITLE=Parker Hall at True
  Life Church:geo:0,0
END:VEVENT
BEGIN:VTIMEZONE
TZID:America/New_York
X-LIC-LOCATION:America/New_York
BEGIN:DAYLIGHT
DTSTART:20260308T030000
TZOFFSETFROM:-0500
TZOFFSETTO:-0400
TZNAME:EDT
END:DAYLIGHT
END:VTIMEZONE
END:VCALENDAR