BEGIN:VCALENDAR
VERSION:2.0
PRODID:-//wp-events-plugin.com//7.2.3.1//EN
TZID:America/New_York
X-WR-TIMEZONE:America/New_York
BEGIN:VEVENT
UID:1850@floridasportscards.com
DTSTART;TZID=America/New_York:20260321T100000
DTEND;TZID=America/New_York:20260321T160000
DTSTAMP:20260214T192318Z
URL:https://floridasportscards.com/events/lakeland-card-show-lakeland-3/
SUMMARY:Lakeland Card Show - Lakeland
DESCRIPTION:Lakeland Card Show on March 21st\, 2026
ATTACH;FMTTYPE=image/jpeg:https://floridasportscards.com/wp-content/upload
 s/2026/02/0321-LAkeland.webp
CATEGORIES:Card Shows
LOCATION:Lakeland Square Mall\, 3800 Hwy 98 N\, Lakeland\, FL\, 33809\, Uni
 ted States
X-APPLE-STRUCTURED-LOCATION;VALUE=URI;X-ADDRESS=3800 Hwy 98 N\, Lakeland\, 
 FL\, 33809\, United States;X-APPLE-RADIUS=100;X-TITLE=Lakeland Square Mall
 :geo:0,0
END:VEVENT
BEGIN:VTIMEZONE
TZID:America/New_York
X-LIC-LOCATION:America/New_York
BEGIN:DAYLIGHT
DTSTART:20260308T030000
TZOFFSETFROM:-0500
TZOFFSETTO:-0400
TZNAME:EDT
END:DAYLIGHT
END:VTIMEZONE
END:VCALENDAR