BEGIN:VCALENDAR
VERSION:2.0
PRODID:-//wp-events-plugin.com//7.2.3.1//EN
TZID:America/New_York
X-WR-TIMEZONE:America/New_York
BEGIN:VEVENT
UID:1712@floridasportscards.com
DTSTART;TZID=America/New_York:20261221T170000
DTEND;TZID=America/New_York:20261221T170000
DTSTAMP:20260113T032320Z
URL:https://floridasportscards.com/events/layton-declassified-game-surviva
 l-guide-at-layton-gaming-altamonte-springs-2026-01-12-2026-01-19-2026-01-2
 6-2026-02-02-2026-02-09-2026-02-16-2026-02-23-2026-03-02-2026-03-09-2026-0
 3-16-2-14-2026-12-21/
SUMMARY:Layton Declassified Game Survival Guide at Layton Gaming - Altamont
 e Springs
DESCRIPTION:
ATTACH;FMTTYPE=image/jpeg:https://floridasportscards.com/wp-content/upload
 s/2026/01/Layton-Gaming-Monday.jpg
CATEGORIES:In-Store Event
LOCATION:Layton Gaming\, 1140 E Altamonte Dr Unit 1041\, Altamonte Springs\
 , FL\, 32701\, United States
X-APPLE-STRUCTURED-LOCATION;VALUE=URI;X-ADDRESS=1140 E Altamonte Dr Unit 10
 41\, Altamonte Springs\, FL\, 32701\, United States;X-APPLE-RADIUS=100;X-T
 ITLE=Layton Gaming:geo:0,0
END:VEVENT
BEGIN:VTIMEZONE
TZID:America/New_York
X-LIC-LOCATION:America/New_York
BEGIN:STANDARD
DTSTART:20261101T010000
TZOFFSETFROM:-0400
TZOFFSETTO:-0500
TZNAME:EST
END:STANDARD
END:VTIMEZONE
END:VCALENDAR