BEGIN:VCALENDAR
VERSION:2.0
PRODID:-//wp-events-plugin.com//7.2.3.1//EN
TZID:America/New_York
X-WR-TIMEZONE:America/New_York
BEGIN:VEVENT
UID:1887@floridasportscards.com
DTSTART;TZID=America/New_York:20260330T180000
DTEND;TZID=America/New_York:20260330T180000
DTSTAMP:20260304T032958Z
URL:https://floridasportscards.com/events/matthew-tkachuk-brady-tkachuk-au
 tograph-signing-wellington/
SUMMARY:Matthew Tkachuk\, Brady Tkachuk Autograph Signing - Wellington
DESCRIPTION:Matthew Tkachuk and Brady Tkachuck autograph signing at Palm Be
 ach autographs in Wellington\, FL
ATTACH;FMTTYPE=image/jpeg:https://floridasportscards.com/wp-content/upload
 s/2026/03/0330-Tkachuk.webp
CATEGORIES:Autograph Signings
LOCATION:Palm Beach Autographs\, 10300 Forest Hill Blvd #118\, Wellington\,
  FL\, 33414\, United States
X-APPLE-STRUCTURED-LOCATION;VALUE=URI;X-ADDRESS=10300 Forest Hill Blvd #118
 \, Wellington\, FL\, 33414\, United States;X-APPLE-RADIUS=100;X-TITLE=Palm
  Beach Autographs:geo:0,0
END:VEVENT
BEGIN:VTIMEZONE
TZID:America/New_York
X-LIC-LOCATION:America/New_York
BEGIN:DAYLIGHT
DTSTART:20260308T030000
TZOFFSETFROM:-0500
TZOFFSETTO:-0400
TZNAME:EDT
END:DAYLIGHT
END:VTIMEZONE
END:VCALENDAR