BEGIN:VCALENDAR
VERSION:2.0
PRODID:-//wp-events-plugin.com//7.2.3.1//EN
TZID:America/New_York
X-WR-TIMEZONE:America/New_York
BEGIN:VEVENT
UID:2073@floridasportscards.com
DTSTART;TZID=America/New_York;VALUE=DATE:20261002
DTEND;TZID=America/New_York;VALUE=DATE:20261003
DTSTAMP:20260421T015936Z
URL:https://floridasportscards.com/events/miami-courtside-card-show-miami-
 2026-10-02/
SUMMARY:Miami Courtside Card Show - Miami
DESCRIPTION:Miami Courtside Card Show
ATTACH;FMTTYPE=image/jpeg:https://floridasportscards.com/wp-content/upload
 s/2026/04/1002-1004-Courtside.webp
CATEGORIES:Card Shows
LOCATION:Hyatt Regency - Brickell\, 400 SE 2nd Ave\, Miami\, FL\, 33131-219
 7\, United States
X-APPLE-STRUCTURED-LOCATION;VALUE=URI;X-ADDRESS=400 SE 2nd Ave\, Miami\, FL
 \, 33131-2197\, United States;X-APPLE-RADIUS=100;X-TITLE=Hyatt Regency - B
 rickell:geo:0,0
END:VEVENT
BEGIN:VTIMEZONE
TZID:America/New_York
X-LIC-LOCATION:America/New_York
BEGIN:DAYLIGHT
DTSTART:20260308T030000
TZOFFSETFROM:-0500
TZOFFSETTO:-0400
TZNAME:EDT
END:DAYLIGHT
END:VTIMEZONE
END:VCALENDAR