BEGIN:VCALENDAR
VERSION:2.0
PRODID:-//wp-events-plugin.com//7.2.3.1//EN
TZID:America/New_York
X-WR-TIMEZONE:America/New_York
BEGIN:VEVENT
UID:1879@floridasportscards.com
DTSTART;TZID=America/New_York;VALUE=DATE:20261017
DTEND;TZID=America/New_York;VALUE=DATE:20261018
DTSTAMP:20260304T025132Z
URL:https://floridasportscards.com/events/miami-tcg-invades-west-palm-palm
 -springs-5/
SUMMARY:Miami TCG Invades West Palm - Palm Springs
DESCRIPTION:Miami TCG Invades West Palm with a card show at Gstar Studios i
 n Palm Springs.
ATTACH;FMTTYPE=image/jpeg:https://floridasportscards.com/wp-content/upload
 s/2026/03/Miami-TCG.webp
CATEGORIES:Card Shows
LOCATION:GStar Studios\, 2060 S Congress Ave\, Palm Springs\, FL\, 33406\, 
 United States
X-APPLE-STRUCTURED-LOCATION;VALUE=URI;X-ADDRESS=2060 S Congress Ave\, Palm 
 Springs\, FL\, 33406\, United States;X-APPLE-RADIUS=100;X-TITLE=GStar Stud
 ios:geo:0,0
END:VEVENT
BEGIN:VTIMEZONE
TZID:America/New_York
X-LIC-LOCATION:America/New_York
BEGIN:DAYLIGHT
DTSTART:20260308T030000
TZOFFSETFROM:-0500
TZOFFSETTO:-0400
TZNAME:EDT
END:DAYLIGHT
END:VTIMEZONE
END:VCALENDAR