BEGIN:VCALENDAR
VERSION:2.0
PRODID:-//wp-events-plugin.com//7.2.3.1//EN
TZID:America/New_York
X-WR-TIMEZONE:America/New_York
BEGIN:VEVENT
UID:1763@floridasportscards.com
DTSTART;TZID=America/New_York;VALUE=DATE:20260307
DTEND;TZID=America/New_York;VALUE=DATE:20260309
DTSTAMP:20260122T022539Z
URL:https://floridasportscards.com/event-recurring/miami-tcg-invades-west-
 palm-palm-springs/
SUMMARY:Miami TCG Invades West Palm - Palm Springs
DESCRIPTION:
ATTACH;FMTTYPE=image/jpeg:https://floridasportscards.com/wp-content/upload
 s/2026/01/0307-0308-TCM-MIami.webp
CATEGORIES:Card Shows
LOCATION:GStar Studios\, 2060 S Congress Ave\, Palm Springs\, FL\, 33406\, 
 United States
X-APPLE-STRUCTURED-LOCATION;VALUE=URI;X-ADDRESS=2060 S Congress Ave\, Palm 
 Springs\, FL\, 33406\, United States;X-APPLE-RADIUS=100;X-TITLE=GStar Stud
 ios:geo:0,0
END:VEVENT
BEGIN:VTIMEZONE
TZID:America/New_York
X-LIC-LOCATION:America/New_York
BEGIN:STANDARD
DTSTART:20251102T010000
TZOFFSETFROM:-0400
TZOFFSETTO:-0500
TZNAME:EST
END:STANDARD
BEGIN:DAYLIGHT
DTSTART:20260308T030000
TZOFFSETFROM:-0500
TZOFFSETTO:-0400
TZNAME:EDT
END:DAYLIGHT
END:VTIMEZONE
END:VCALENDAR