BEGIN:VCALENDAR
VERSION:2.0
PRODID:-//wp-events-plugin.com//7.2.3.1//EN
TZID:America/New_York
X-WR-TIMEZONE:America/New_York
BEGIN:VEVENT
UID:1589@floridasportscards.com
DTSTART;TZID=America/New_York;VALUE=DATE:20260117
DTEND;TZID=America/New_York;VALUE=DATE:20260118
DTSTAMP:20260105T001935Z
URL:https://floridasportscards.com/events/miami-tcg-miami-2026-01-17/
SUMMARY:Miami TCG - Miami
DESCRIPTION:More info at their website 
ATTACH;FMTTYPE=image/jpeg:https://floridasportscards.com/wp-content/upload
 s/2026/01/0117-0118-TCG-Miami.webp
CATEGORIES:Card Shows
LOCATION:Miami Airport Convention Center\, 711 NW 72nd Ave\, Miami\, FL\, 3
 3126\, United States
X-APPLE-STRUCTURED-LOCATION;VALUE=URI;X-ADDRESS=711 NW 72nd Ave\, Miami\, F
 L\, 33126\, United States;X-APPLE-RADIUS=100;X-TITLE=Miami Airport Convent
 ion Center:geo:0,0
END:VEVENT
BEGIN:VTIMEZONE
TZID:America/New_York
X-LIC-LOCATION:America/New_York
BEGIN:STANDARD
DTSTART:20251102T010000
TZOFFSETFROM:-0400
TZOFFSETTO:-0500
TZNAME:EST
END:STANDARD
END:VTIMEZONE
END:VCALENDAR