BEGIN:VCALENDAR
VERSION:2.0
PRODID:-//wp-events-plugin.com//7.2.3.1//EN
TZID:America/New_York
X-WR-TIMEZONE:America/New_York
BEGIN:VEVENT
UID:1959@floridasportscards.com
DTSTART;TZID=America/New_York:20260324T170000
DTEND;TZID=America/New_York:20260324T170000
DTSTAMP:20260308T021645Z
URL:https://floridasportscards.com/events/mid-week-meet-up-at-layton-gamin
 g-altamonte-springs-2026-03-10-2026-03-24/
SUMMARY:Mid-Week Meet Up at Layton Gaming - Altamonte Springs
DESCRIPTION:
ATTACH;FMTTYPE=image/jpeg:https://floridasportscards.com/wp-content/upload
 s/2026/03/Layton-Mid-Week.jpg
CATEGORIES:In-Store Event
LOCATION:Layton Gaming\, 1140 E Altamonte Dr Unit 1041\, Altamonte Springs\
 , FL\, 32701\, United States
X-APPLE-STRUCTURED-LOCATION;VALUE=URI;X-ADDRESS=1140 E Altamonte Dr Unit 10
 41\, Altamonte Springs\, FL\, 32701\, United States;X-APPLE-RADIUS=100;X-T
 ITLE=Layton Gaming:geo:0,0
END:VEVENT
BEGIN:VTIMEZONE
TZID:America/New_York
X-LIC-LOCATION:America/New_York
BEGIN:DAYLIGHT
DTSTART:20260308T030000
TZOFFSETFROM:-0500
TZOFFSETTO:-0400
TZNAME:EDT
END:DAYLIGHT
END:VTIMEZONE
END:VCALENDAR