BEGIN:VCALENDAR
VERSION:2.0
PRODID:-//wp-events-plugin.com//7.2.3.1//EN
TZID:America/New_York
X-WR-TIMEZONE:America/New_York
BEGIN:VEVENT
UID:1951@floridasportscards.com
DTSTART;TZID=America/New_York:20261020T170000
DTEND;TZID=America/New_York:20261020T170000
DTSTAMP:20260308T021551Z
URL:https://floridasportscards.com/events/mid-week-meet-up-at-layton-sport
 s-cards-altamonte-springs-2026-03-10-2026-03-24-2026-04-07-2026-04-21-2026
 -05-05-2026-05-19-2026-06-02-2026-06-16-2026-06-30-2026-07-14-2026-07-28-2
 026-08-06-2026-10-20/
SUMMARY:Mid-Week Meet Up at Layton Sports Cards - Altamonte Springs
DESCRIPTION:
ATTACH;FMTTYPE=image/jpeg:https://floridasportscards.com/wp-content/upload
 s/2026/03/Layton-Mid-Week.jpg
CATEGORIES:In-Store Event
LOCATION:Layton Sports Cards\, 130 E Altamonte Dr\, Unit 1100\, Altamonte S
 prings\, FL\, 32701\, United States
X-APPLE-STRUCTURED-LOCATION;VALUE=URI;X-ADDRESS=130 E Altamonte Dr\, Unit 1
 100\, Altamonte Springs\, FL\, 32701\, United States;X-APPLE-RADIUS=100;X-
 TITLE=Layton Sports Cards:geo:0,0
END:VEVENT
BEGIN:VTIMEZONE
TZID:America/New_York
X-LIC-LOCATION:America/New_York
BEGIN:DAYLIGHT
DTSTART:20260308T030000
TZOFFSETFROM:-0500
TZOFFSETTO:-0400
TZNAME:EDT
END:DAYLIGHT
END:VTIMEZONE
END:VCALENDAR