BEGIN:VCALENDAR
VERSION:2.0
PRODID:-//wp-events-plugin.com//7.2.3.1//EN
TZID:America/New_York
X-WR-TIMEZONE:America/New_York
BEGIN:VEVENT
UID:1242@floridasportscards.com
DTSTART;TZID=America/New_York:20260221T100000
DTEND;TZID=America/New_York:20260221T180000
DTSTAMP:20260220T185535Z
URL:https://floridasportscards.com/events/midflorida-card-expo-port-st-luc
 ie-2/
SUMMARY:MidFlorida Card Expo - Port St. Lucie
DESCRIPTION:MIdFlorida Card Expo features 230 tables of sports cards and TC
 G cards!  There will be several baseball and MMA autograph signings and a 
 Kid Zone!
ATTACH;FMTTYPE=image/jpeg:https://floridasportscards.com/wp-content/upload
 s/2025/09/0221-0222-updated-MidFlorida.webp
CATEGORIES:Card Shows
LOCATION:MidFlorida Event Center\, 9261 SE Civic Center Pl\, Port St. Lucie
 \, FL\, 34952\, United States
X-APPLE-STRUCTURED-LOCATION;VALUE=URI;X-ADDRESS=9261 SE Civic Center Pl\, P
 ort St. Lucie\, FL\, 34952\, United States;X-APPLE-RADIUS=100;X-TITLE=MidF
 lorida Event Center:geo:0,0
END:VEVENT
BEGIN:VTIMEZONE
TZID:America/New_York
X-LIC-LOCATION:America/New_York
BEGIN:STANDARD
DTSTART:20251102T010000
TZOFFSETFROM:-0400
TZOFFSETTO:-0500
TZNAME:EST
END:STANDARD
END:VTIMEZONE
END:VCALENDAR